BEGIN:VCALENDAR
PRODID:-//eluceo/ical//2.0/EN
VERSION:2.0
CALSCALE:GREGORIAN
BEGIN:VEVENT
UID:4866f6e6be60c74aea1be51dcd02f065
DTSTAMP:20260423T125212Z
SUMMARY:LinkedIn pro exportéry
DESCRIPTION:Název akce: LinkedIn pro exportéry\nURL: https://www.spcr.cz/
 linkedin-pro-exportery\nPopis: \n\nRádi bychom Vás pozvali na seminář 
 organizovaný agenturou CzechTrade. \nAnotace semináře:\n\nEfektivní v
 yužití sítě - jak vyhledávat a získávat nové obchodní kontakty\, 
 udržovat vztahy se svými obchodními partnery/zákazníky\, jak se vhodn
 ě prezentovat jako firma i jednotlivec\nJak psát zajímavé příspěvky
  a zaujmout publikum na LinkedIn\nJak na expanzi na zahraniční trhy pomo
 cí LinkedInu\nPraktická část pro účastníky\n\nSeminář je určen p
 ro začátečníky - kurz pro pokročilé je plánován na 16.5.\nDalší 
 informace a možnost registrace zde. \n
URL:https://www.spcr.cz/linkedin-pro-exportery
DTSTART:20240416T090000
DTEND:20240416T160000
LOCATION:
END:VEVENT
END:VCALENDAR
