BEGIN:VCALENDAR
PRODID:-//eluceo/ical//2.0/EN
VERSION:2.0
CALSCALE:GREGORIAN
BEGIN:VEVENT
UID:62d5150e309aa56e2bb3fa820d38608b
DTSTAMP:20260423T162731Z
SUMMARY:Filipíny – ekonomický boom a příležitosti pro české export
 éry 
DESCRIPTION:Název akce: Filipíny – ekonomický boom a příležitosti p
 ro české exportéry \nURL: https://www.spcr.cz/filipiny-ekonomicky-boom-
 prilezitosti-pro-ceske-exportery\nPopis: \n\nDovolujeme si Vás pozvat na 
 online seminář pořádaný agenturou CzechTrade. \nAnotace semináře:\
 n\nTrh jihovýchodní Asie\, který Vás nepřestane překvapovat svou pes
 trostí\, otevřeností a nekonečnou poptávkou\nAktuální příležitos
 ti a situace na filipínském trhu\, jak hledat obchodní partnery\nPerspe
 ktivní obory - zemědělství\, potravinářství\, odpady\, personalisti
 ka\nAsistence kanceláře CzechTrade\n\nBližší informace a možnost reg
 istrace zde. \n
URL:https://www.spcr.cz/filipiny-ekonomicky-boom-prilezitosti-pro-ceske-exp
 ortery
DTSTART:20240411T100000
DTEND:20240411T113000
LOCATION:
END:VEVENT
END:VCALENDAR
