BEGIN:VCALENDAR
PRODID:-//eluceo/ical//2.0/EN
VERSION:2.0
CALSCALE:GREGORIAN
BEGIN:VEVENT
UID:ef7ddcf0720b4b5ae4884879cf039598
DTSTAMP:20260423T124857Z
SUMMARY:European Sustainable Energy Week
DESCRIPTION:Název akce: European Sustainable Energy Week\nURL: https://www
 .spcr.cz/european-sustainable-energy-week\nPopis: \n\nRádi bychom Vás po
 zvali na největší konferenci věnovanou obnovitelným zdrojům a efekti
 vnímu využívání energie v Evropě. EUSEW se bude konat 11.–13. če
 rvna 2024 v hybridním formátu\, v Bruselu a online.\nAkce zahrnuje polit
 ickou konferenci na vysoké úrovni\, ceny EUSEW a Evropský den energie p
 ro mládež a především příležitosti k navázání spojení s komuni
 tou EUSEW na energetickém veletrhu.\nBližší informace na oficiálních
  webových stránkách. \n
URL:https://www.spcr.cz/european-sustainable-energy-week
DTSTART:20240611T000000
DTEND:20240613T235959
LOCATION:
END:VEVENT
END:VCALENDAR
