BEGIN:VCALENDAR
PRODID:-//eluceo/ical//2.0/EN
VERSION:2.0
CALSCALE:GREGORIAN
BEGIN:VEVENT
UID:344d9fc04eb3ea9e11d66660a5aed8a4
DTSTAMP:20260423T125849Z
SUMMARY:Bruselské ekonomické fórum
DESCRIPTION:Název akce: Bruselské ekonomické fórum\nURL: https://www.sp
 cr.cz/bruselske-ekonomicke-forum\nPopis: \n\nRádi bychom Vás pozvali na 
 stěžejní ekonomickou konferenci Evropské komise\, letos s tématem 
 „Občané EU rozhodují: utváření ekonomiky zítřka“\, která bude
  probíhat hybridně - v Bruselu s možností připojení online. \nJiž 
 více než 20 let se na stěžejní každoroční hospodářské události
  Evropské komise schází evropští a mezinárodní tvůrci politik na v
 ysoké úrovni\, akademici\, představitelé občanské společnosti a pod
 nikatelské sféry\, aby identifikovali klíčové výzvy a diskutovali o 
 politických prioritách. Bližší informace zde. \nMožnost registrace 
 zde. \n
URL:https://www.spcr.cz/bruselske-ekonomicke-forum
DTSTART:20240516T000000
DTEND:20240516T235959
LOCATION:
END:VEVENT
END:VCALENDAR
