BEGIN:VCALENDAR
PRODID:-//eluceo/ical//2.0/EN
VERSION:2.0
CALSCALE:GREGORIAN
BEGIN:VEVENT
UID:c280c60bc4c71a75c72f629130834237
DTSTAMP:20260423T162819Z
SUMMARY:Webinář o návrhu Systému zdanění malých a středních podnik
 ů podle jejich sídla 
DESCRIPTION:Název akce: Webinář o návrhu Systému zdanění malých a s
 tředních podniků podle jejich sídla \nURL: https://www.spcr.cz/webinar
 -o-navrhu-systemu-zdaneni-malych-strednich-podniku-podle-jejich-sidla\nPop
 is: \n\nDovolujeme si Vás informovat o webináři k Systému zdanění ma
 lých a středních podniků podle jejich sídla\, kde bude představena d
 etailní prezentace návrhu\, který malým a středním podnikům působ
 ícím přeshraničně prostřednictvím stálých provozoven umožňuje i
 nterakci pouze s jednou daňovou správou – se správním ústředím. 
 \nVíce  informací k idspozici zde. \n
URL:https://www.spcr.cz/webinar-o-navrhu-systemu-zdaneni-malych-strednich-p
 odniku-podle-jejich-sidla
DTSTART:20240619T000000
DTEND:20240619T235959
LOCATION:
END:VEVENT
END:VCALENDAR
