BEGIN:VCALENDAR
PRODID:-//eluceo/ical//2.0/EN
VERSION:2.0
CALSCALE:GREGORIAN
BEGIN:VEVENT
UID:b2584f77ce1e2f8a499c2be5d615616f
DTSTAMP:20260423T162802Z
SUMMARY:Webinář o návrhu Systému zdanění malých a středních podnik
 ů podle jejich sídla 
DESCRIPTION:Název akce: Webinář o návrhu Systému zdanění malých a s
 tředních podniků podle jejich sídla \nURL: https://www.spcr.cz/webinar
 -o-navrhu-systemu-zdaneni-malych-strednich-podniku-podle-jejich-sidla-0\nP
 opis: \n\nDovolujeme si Vás informovat o webináři k Systému zdanění 
 malých a středních podniků podle jejich sídla\, kde bude představena
  detailní prezentace návrhu\, který malým a středním podnikům půso
 bícím přeshraničně prostřednictvím stálých provozoven umožňuje 
 interakci pouze s jednou daňovou správou – se správním ústředím.
  \nVíce  informací k idspozici zde. \n
URL:https://www.spcr.cz/webinar-o-navrhu-systemu-zdaneni-malych-strednich-p
 odniku-podle-jejich-sidla-0
DTSTART:20240417T000000
DTEND:20240417T235959
LOCATION:
END:VEVENT
END:VCALENDAR
