BEGIN:VCALENDAR
PRODID:-//eluceo/ical//2.0/EN
VERSION:2.0
CALSCALE:GREGORIAN
BEGIN:VEVENT
UID:e9ad73106baf75b59e00443a2008c3b6
DTSTAMP:20260423T150323Z
SUMMARY:AGROBUSINESS MEDAFRICA EXPO 2024
DESCRIPTION:Název akce: AGROBUSINESS MEDAFRICA EXPO 2024\nURL: https://www
 .spcr.cz/agrobusiness-medafrica-expo-2024\nPopis: \n\nDovolujeme si Vás p
 ozvat na druhý ročník mezinárodního veletrhu agrobyznysu AGROBUSINESS
  MEDAFRICA EXPO 2024\, který se bude konat od 14. do 16. listopadu 2024 v
  Medině Yasmine Hammamet v Tunisku. Tato událost poskytuje privilegovano
 u platformu pro spojení s tuniskými zemědělsko-potravinářskými spol
 ečnostmi\, zkoumání nejnovějších trendů\, sdílení osvědčených 
 postupů a navazování strategických partnerství.Tato mezinárodně vý
 znamná událost opět spojí klíčové hráče z Tuniska i ze zahranič
 í a vytvoří dynamické prostředí pro plodné výměny a trvalé syner
 gie. Již je přihlášeo více než 200 odborných návštěvníků ze za
 hraničí\, včetně středomořské Evropy\, sousedních zemí a Afriky.\
 nDalší informace o této události naleznete na oficiálních webových 
 stránkách.\n
URL:https://www.spcr.cz/agrobusiness-medafrica-expo-2024
DTSTART:20241114T000000
DTEND:20241116T235959
LOCATION:
END:VEVENT
END:VCALENDAR
