BEGIN:VCALENDAR
PRODID:-//eluceo/ical//2.0/EN
VERSION:2.0
CALSCALE:GREGORIAN
BEGIN:VEVENT
UID:1ff432ece18dbebed6296b3f28e8b959
DTSTAMP:20260423T192845Z
SUMMARY:3. ročník Nepálského investičního fóra
DESCRIPTION:Název akce: 3. ročník Nepálského investičního fóra\nURL
 : https://www.spcr.cz/3-rocnik-nepalskeho-investicniho-fora\nPopis: \n\nDo
 volujeme si Vás pozvat na 3. ročník Nepálského investičního fóra (
 Nepal Investment Summit\, NIS)\, které firmám z České republiky nabíz
 í jedinečnou šanci prozkoumat aktuální investiční a obchodní pří
 ležitosti v Nepálu a získat klíčové partnery ve státní správě\, 
 soukromém sektoru a rozvojových finančních institucích.  První den f
 óra poskytne detailní pohled na investiční prostředí v Nepálu\, zat
 ímco druhý den se bude věnovat specifickým sektorům\, jako jsou čist
 á energetika\, zelená ekonomika\, turismus\, zpracovatelský průmysl\, 
 doprava\, IT a další.\nÚčast na fóru potvrdil i předseda vlády Nep
 álu\, P. K. Dahal. Hlavními organizátory jsou Investiční rada Nepálu
  a Federace nepálských obchodních a průmyslových komor.   Pro více i
 nformací o programu\, bezplatné registraci a možnostech účasti navš
 tivte oficiální webové stránky NIS.\n
URL:https://www.spcr.cz/3-rocnik-nepalskeho-investicniho-fora
DTSTART:20240428T080000
DTEND:20240429T235959
LOCATION:
END:VEVENT
END:VCALENDAR
