BEGIN:VCALENDAR
PRODID:-//eluceo/ical//2.0/EN
VERSION:2.0
CALSCALE:GREGORIAN
BEGIN:VEVENT
UID:3aa6311cb407d2bf99dec6be1ada76bd
DTSTAMP:20260423T163342Z
SUMMARY:NEXT 3D
DESCRIPTION:Název akce: NEXT 3D\nURL: https://www.spcr.cz/next-3d\nPopis: 
 \n\nZůčastněte se jedinečného oborového setkání\, které představ
 uje trendy a osvědčené postupy v aditivní výrobě ve firmách i u
  tvůrčích profesionálů. \nCo vás čeká?\n\nZajímaví řečníci 
 z praxe\nVýměna zkušeností\nNové trendy 3D tisku\nPříjemná setkán
 í\n\nPodrobnosti najdete na webu konference.\nSvaz průmyslu a dopravy Č
 R poskytnul konferenci záštitu.\n \n
URL:https://www.spcr.cz/next-3d
DTSTART:20240530T080000
DTEND:20240530T170000
LOCATION:
END:VEVENT
END:VCALENDAR
