BEGIN:VCALENDAR
PRODID:-//eluceo/ical//2.0/EN
VERSION:2.0
CALSCALE:GREGORIAN
BEGIN:VEVENT
UID:38dc5a0b94dfd56d4ebeee90f3e2b70e
DTSTAMP:20260423T150340Z
SUMMARY:Equal Pay Day 
DESCRIPTION:Název akce: Equal Pay Day \nURL: https://www.spcr.cz/equal-pay
 -day\nPopis: \n\nVe dnech 11. a 12. dubna 2024 se v Praze již po patnáct
 é uskuteční mezinárodní konference na téma rovných příležitostí
  a nerovného odměňování Equal Pay Day (EPD)\, která je největší s
 vého druhu v Evropě a jedinou v České republice.\nDvoudenní akce př
 edstaví desítky českých i zahraničních vystupujících z řad expert
 ek a expertů\, top managementu firem\, HR manažerek a manažerů i osobn
 ostí z veřejné sféry a diplomacie a každoročně přiláká stovky ž
 en a mužů. Průvodkyní letošním ročníkem s tématem Příležitost 
 bude Barbora Kroužková.\nKonferenci pořádá veřejně prospěšná or
 ganizace Business & Professional Women CR (BPWCR)\, která od roku 2010 p
 odporuje ekonomickou nezávislost žen a vede celoroční kampaň a osvět
 u k tématice rovného odměňování a postavení žen a mužů ve spole
 čnosti.\nSvaz průmyslu a dopravy ČR poskytl akci záštitu.\n
URL:https://www.spcr.cz/equal-pay-day
DTSTART:20240411T000000
DTEND:20240412T235959
LOCATION:
END:VEVENT
END:VCALENDAR
