BEGIN:VCALENDAR
PRODID:-//eluceo/ical//2.0/EN
VERSION:2.0
CALSCALE:GREGORIAN
BEGIN:VEVENT
UID:7a83209af68f2666095f1391a876d1cf
DTSTAMP:20260423T125654Z
SUMMARY:Kategorizace prací od A po Z (Praha)
DESCRIPTION:Název akce: Kategorizace prací od A po Z (Praha)\nURL: https:
 //www.spcr.cz/kategorizace-praci-od-po-z-praha\nPopis: \n\nSvaz průmyslu 
 a dopravy České republiky vás srdečně zve na seminář\n \nKATEGORIZ
 ACE PRACÍ OD A DO Z.\nMísto: Zasedací místnost (2. patro) Svazu průmy
 slu a dopravy ČR\, Freyova 948/11\, Praha 9\n\nCena: 2500\,- Kč (+ DPH) 
 / 1900\,- Kč (+ DPH) pro členy SP ČR\nRegistrace: Na seminář se pros
 ím registrujte do 24. května 2024 ZDEPROGRAM:09:30 - 10:00 Registrace 
 účastníků10:00 - 10:15 Úvodní slovo - zahájení10:15 - 11:00 KATEGO
 RIZACE - souvislosti a návaznosti v pracovnímlékařství - MUDr. Vladim
 íra Lipšová (Státní zdravotní ústav)11:00 - 12:30 KATEGORIZACE - ve
  vztahu k jednotlivým rizikovým faktorům\,návrh na zařazení prací d
 o kategorií\, požadavky na měření rizikových faktorů- MUDr. Gacka S
 lavíková (Hygienická stanice hlavního města Prahy)12:30 - 13:00 Obče
 rstvení13:00 - 13:15 REGISTR KATEGORIZACÍ PRACÍ “KaPr” - evidence p
 rací\,statistické údaje - Mgr. Jana Zocová (Státní zdravotní ústav
 )13:15 - 13:30 NÁRODNÍ REGISTR NEMOCÍ Z POVOLÁNÍ - evidencehlášený
 ch nemocí z povolání\, statistické údaje - Bc. Michaela Voříšková
 (Státní zdravotní ústav)13:30 - 14:00 Diskuze\, dotazy\, závěr\n\nV
 íce informací naleznete v přiložené pozvánce.\n
URL:https://www.spcr.cz/kategorizace-praci-od-po-z-praha
DTSTART:20240529T093000
DTEND:20240529T140000
LOCATION:
END:VEVENT
END:VCALENDAR
