BEGIN:VCALENDAR
PRODID:-//eluceo/ical//2.0/EN
VERSION:2.0
CALSCALE:GREGORIAN
BEGIN:VEVENT
UID:383b6109d50c8dc8c8100c94aa34d7f4
DTSTAMP:20260423T145806Z
SUMMARY:Den s inspektorátem práce a představení OOPP 3M a Ejendals
DESCRIPTION:Název akce: Den s inspektorátem práce a představení OOPP 3
 M a Ejendals\nURL: https://www.spcr.cz/den-s-inspektoratem-prace-predstave
 ni-oopp-3m-ejendals\nPopis: \n\nOkresní hospodářská komora Liberec\, S
 vaz průmyslu a dopravy České republiky a Spolek pro rozvoj lidských zd
 rojů Liberec vás srdečně zvou na seminář.\nPROGRAM:08:45 - 09:00 Reg
 istrace účastníků09:00 - 09:05 Úvodní slovo - zahájení09:05 - 10:0
 5 3M - Specifika výběru a typy OOPP - Jan Pavliš10:05 - 11:05 Ejendals 
 - Fakta a skutečnosti o ochraně rukou a nohou díky správné volbě ruk
 avic a pracovní obuvi - Luboš Vavřík11:05 - 11:20 Coffee break11:20 - 
 12:20 Praktické ukázky z kontrolní činnosti OIP v oblasti BOZP\, pouč
 ení z pracovních úrazů - Ing. Pavel Koňas12:20 - 12:50 Občerstvení\
 , networking\, prohlídka OOPP12:50 - 13:50 Poznatky z kontrolní činnost
 i OIP v oblasti elektrických zařízení\, poučení z pracovních úraz
 ů - Ing. Petr Kurtin13:50 - 14:50 Poznatky z kontrolní činnosti OIP v o
 blasti zdvihacích zařízení\, opakující se závady\, poučení z prac
 ovních úrazů - Ing. Marek Neduchal14:50 - 15:00 Diskuze\, závěrPREZEN
 TUJÍCÍ:Jan Pavliš - aplikační inženýr divize ochrany zdraví a bezp
 ečnosti při práci ve společnosti 3M Česko spol. s r.o. Technický spe
 cialistapro OOPP zabývající se výběrem\, aplikací a vývojem OOPPLub
 oš Vavřík - produktový specialista ochranných pracovních rukavic TEG
 ERA a bezpečnostní obuvi JALAS\, vyhodnocení rizik -vhodné OOPP pro oc
 hranu nohou a rukou s přihlédnutím na mechanická\, tepelná rizika a o
 chranu před chemikáliemiIng. Pavel Koňas – od r. 2022 inspektor BOZP 
 na OIP\, kancelář Liberec\, od r. 2012 odborně způsobilá osoba v prev
 enci rizik v oblastiBOZP\, certifikační auditor systému managementu BOZ
 P dle normy ČSN ISO 45 001Ing. Petr Kurtin – od r. 2015 inspektor BOZP 
 na OIP\, kancelář Liberec\, od r. 2023 se zaměřuje na vyhrazená elekt
 rická zařízení.Věnuje se též pedagogické činnosti v oblasti BOZP\
 , zejména ve spolupráci se sdružením BOZP21. Ukázkami špatné praxe 
 připracovních úrazech se snaží přispět k prevenci jejich vzniku.Ing
 . Marek Neduchal – od r. 2021 inspektor BOZP se specializací na vyhraze
 ná zdvihací zařízení\, kancelář Liberec. Do roku 2020manažer oddě
 lení kompletace výrobků a logistiky v kabelářském průmyslu.CENA: 35
 00\,- Kč (+ DPH) / 2700\,- Kč (+ DPH) pro členy Krajské hospodářské
  komory KHK\, OHK Liberec nebo SP ČR\nRegistrujte se zde.\n
URL:https://www.spcr.cz/den-s-inspektoratem-prace-predstaveni-oopp-3m-ejend
 als
DTSTART:20240411T084500
DTEND:20240411T150000
LOCATION:
END:VEVENT
END:VCALENDAR
