BEGIN:VCALENDAR
PRODID:-//eluceo/ical//2.0/EN
VERSION:2.0
CALSCALE:GREGORIAN
BEGIN:VEVENT
UID:7467be8d5c0d5d65fea2f1a4c8773626
DTSTAMP:20260423T194224Z
SUMMARY:Živá knihovna povolání
DESCRIPTION:Název akce: Živá knihovna povolání\nURL: https://www.spcr.
 cz/ziva-knihovna-povolani-0\nPopis: \n\nRozhoduješ se\, na jakou středn
 í školu půjdeš? Čím chceš být? Napadlo tě\, kde můžeš po škol
 e pracovat?Přijď si na vlastní kůži vyzkoušet zajímavé profese! Se
 znam se s firmami ve tvém okolí a vyber si tu správnou školu pro Tebe.
 \nS rozhodováním ti pomůže:\nseřizovač – Preciosa a.s. údržbář
  – Grupo Antolin Bohemia a.s. elektromontér – ČEZ Distribuce\, a.s.e
 lektronik a elektromechanik – ZF Automotive Czech s.r.o.lektor/performer
  – IQLANDIA\, o.p.s. elektronik – DGS Druckguss Systeme s.r.o.policist
 a – Krajské ředitelství policie Libereckého krajetechnolog - Magna E
 xteriors (Bohemia) s.r.o.stavební profese – STRABAG a.s.\nBližší inf
 ormace a kontakt pro registraci na telefonu 733 643 520.\n
URL:https://www.spcr.cz/ziva-knihovna-povolani-0
DTSTART:20240408T000000
DTEND:20240408T235959
LOCATION:
END:VEVENT
END:VCALENDAR
