BEGIN:VCALENDAR
PRODID:-//eluceo/ical//2.0/EN
VERSION:2.0
CALSCALE:GREGORIAN
BEGIN:VEVENT
UID:c890983062162f7b2f76714b6e3611e7
DTSTAMP:20260423T162802Z
SUMMARY:Access2Markets Live Training Seminar
DESCRIPTION:Název akce: Access2Markets Live Training Seminar\nURL: https:/
 /www.spcr.cz/access2markets-live-training-seminar\nPopis: \n\nA live train
 ing with an in-depth explanation of the Access2Markets platform with a liv
 e training on how to use its different import and export sections\, how to
  access the list of identified trade barriers\, an overview of how to cont
 act the Single Entry Point for trade barriers\, trade statistics\, Rules o
 f Origin Self-Assessment tool (ROSA)\, My Trade Assistant for Procurement\
 , MyTradeAssistant for Services and Investment\, the Trade Defence Instrum
 ents (TDI) SME Helpdesk and a live Q&A session.\n\n\n\nMore information an
 d registration and link to registration can be found here. \n
URL:https://www.spcr.cz/access2markets-live-training-seminar
DTSTART:20240409T100000
DTEND:20240409T120000
LOCATION:
END:VEVENT
END:VCALENDAR
