BEGIN:VCALENDAR
PRODID:-//eluceo/ical//2.0/EN
VERSION:2.0
CALSCALE:GREGORIAN
BEGIN:VEVENT
UID:6986d295b82de941b72cc184df9bd59c
DTSTAMP:20260423T125654Z
SUMMARY:Seminář: Ekodesign - cesta k udržitelnému exportu
DESCRIPTION:Název akce: Seminář: Ekodesign - cesta k udržitelnému expo
 rtu\nURL: https://www.spcr.cz/seminar-ekodesign-cesta-k-udrzitelnemu-expor
 tu\nPopis: \n\nDovolujeme si Vás pozvat na seminář pořádaný agenturo
 u CzechTrade. \n\nPraktické tipy a nástroje\, jak do svého podnikání
  zapojit udržitelné praktiky tak\, abyste byli konkurenceschopní nejen 
 na evropském trhu\nTrendy v ESG a nová ESG pravidla pro firmy\, jak zač
 ít s ESG reportingem\nPotenciál ekodesignu - jak může design ovlivnit 
 životní cyklus produktu a jak se vyhnout greenwashingu\nUdržitelnost v 
 architektuře - výstavní stánky\, které vznikly společně s českými
  studenty a kombinují vysokou estetiku\, upcyklaci a recyklaci\n\nAkce je
  zdarma po předchozí registraci zde. \n
URL:https://www.spcr.cz/seminar-ekodesign-cesta-k-udrzitelnemu-exportu
DTSTART:20240417T150000
DTEND:20240417T180000
LOCATION:
END:VEVENT
END:VCALENDAR
