BEGIN:VCALENDAR
PRODID:-//eluceo/ical//2.0/EN
VERSION:2.0
CALSCALE:GREGORIAN
BEGIN:VEVENT
UID:7e5419d8d8c0d2ff0d04d38462a25748
DTSTAMP:20260423T213346Z
SUMMARY:Seminář: Rychlé a vítězné rozhodování (nejen) při exportu 
 - klíč k úspěchu
DESCRIPTION:Název akce: Seminář: Rychlé a vítězné rozhodování (nej
 en) při exportu - klíč k úspěchu\nURL: https://www.spcr.cz/seminar-ry
 chle-vitezne-rozhodovani-nejen-pri-exportu-klic-k-uspechu\nPopis: \n\nDovo
 lujeme si Vás pozvat na seminář pořádaný agenturou CzechTrade. \n\n
 Naučte se pracovat chytřeji a získejte dovednosti potřebné k tomu\, a
 byste učinili prvotřídní a rychlé rozhodnutí\nZlepšením vašich ro
 zhodovacích schopností posunete nejen sebe\, ale i vaše projekty a celo
 u organizaci na novou úroveň\nZískáte úsporu energie při rozhodován
 í a snížení míry stresu a schopnost budovat a udržovat silné a efek
 tivní pracovní vztahy.\n\nVíce informací a možnost registrace na akci
  zde. \n
URL:https://www.spcr.cz/seminar-rychle-vitezne-rozhodovani-nejen-pri-export
 u-klic-k-uspechu
DTSTART:20240326T090000
DTEND:20240326T170000
LOCATION:
END:VEVENT
END:VCALENDAR
