BEGIN:VCALENDAR
PRODID:-//eluceo/ical//2.0/EN
VERSION:2.0
CALSCALE:GREGORIAN
BEGIN:VEVENT
UID:22a49a319a931d40f54e7388553eac83
DTSTAMP:20260423T162802Z
SUMMARY:Konferenční seminář Údržba pro TOP manažery 2024
DESCRIPTION:Název akce: Konferenční seminář Údržba pro TOP manažery
  2024\nURL: https://www.spcr.cz/konferencni-seminar-udrzba-pro-top-manazer
 y-2024\nPopis: \n\nModerní technologie v údržbě umožňují provozovat
  strojní zařízení za podmínek\, které nejsou provázeny plýtváním
  zdroji a energiemi a tím se snaží podporovat kvalitní životní prost
 ředí. Pojďte se s námi podělit o Váš postoj k udržitelnému světu
  představený moderní diagnostikou\, využitím dat k získání význam
 ných informací o provozu strojních zařízení a o Váš postoj k zaji
 štění provozu zařízení prostřednictvím kvalitní práce personálu
 .\nNa semináři máte možnost:\n\nvystavovat - prezentovat výrobky\, po
 stupy\, služby - získat kontakty\nbýt partnerem -  mít logo firmy um
 ístěné v partnerské sekci v materiálech konferenčního semináře a 
 v přednáškovém sále\nnavázat nové kontakty při neformálním veče
 rním programu\n\nPodrobnosti ke konferenčnímu semináři zde.\nSP ČR p
 oskytnul akci záštitu.\n
URL:https://www.spcr.cz/konferencni-seminar-udrzba-pro-top-manazery-2024
DTSTART:20240417T000000
DTEND:20240418T235959
LOCATION:
END:VEVENT
END:VCALENDAR
