BEGIN:VCALENDAR
PRODID:-//eluceo/ical//2.0/EN
VERSION:2.0
CALSCALE:GREGORIAN
BEGIN:VEVENT
UID:044a1df48a0d8edbb2697f316d0f6ed2
DTSTAMP:20260423T150132Z
SUMMARY:Podnikatelská mise do USA
DESCRIPTION:Název akce: Podnikatelská mise do USA\nURL: https://www.spcr.
 cz/podnikatelska-mise-do-usa\nPopis: \n\nSvaz průmyslu a dopravy ČR (SP 
 ČR) si Vás dovoluje informovat\, že ve dnech 10.-15. června 2024 se b
 ude konat cesta místopředsedy vlády pro digitalizaci Ivana Bartoše do
  USA s doprovodnou podnikatelskou delegací\, kterou za Svaz průmyslu a d
 opravy ČR povede viceprezidentka Milena Jabůrková.\nPodnikatelská dele
 gace do USA se bude soustředit na posílení vazeb a podporu spolupráce 
 v klíčových technologických oblastech\, zejména v oblasti umělé int
 eligence\, kybernetické bezpečnosti a kvantových technologií\, se zvl
 áštním důrazem na podporu a posílení postavení start-pů. Cílem de
 legace je navázat kontakty s americkými protějšky a vedoucími předst
 aviteli průmyslu a prozkoumat možnosti partnerství\, investic a výměn
 y znalostí\, které by byly přínosem pro obě strany. Zaměřením se n
 a tyto špičkové technologie a startupový ekosystém se delegace snaž
 í přispět k inovacím a ke globální konkurenceschopnosti ČR v techno
 logickém sektoru. Návštěva podtrhuje význam mezinárodní spolupráce
  při zvládání výzev a využívání příležitostí\, které přiná
 ší digitalizace a zároveň zdůrazňuje zásadní roli\, kterou startup
 y hrají při podpoře technologického pokroku a hospodářského růstu.
 \nCesta bude směřovat do Washingtonu D.C. a New Yorku. \nV programu mis
 e počítáme s organizací networkingových akcí a pitch event za přít
 omnosti pana místopředsedy vlády a amerických partnerů ve všech nav
 štívených městech\, s návštěvami globálních firem a výzkumných 
 center z oblasti digitalizace\, umělé inteligence\, kybernetické bezpe
 čnosti a kvantových technologií\, nanotechnologií a inovačních cente
 r. Součástí je setkání podnikatelské delegace s místopředsedou vl
 ády ČR\, velvyslancem a s dalšími zástupci ČR v USA.\nPředběžný 
 program mise (změny vyhrazeny):\n\nPondělí\, 10. 6. 2024 - Praha-Washin
 gton DCRáno - odlet z PrahyPoledne - přílet do Washingtonu DCPřesun do
  hotelu\, ubytováníOdpoledne - volný program (prostor pro vlastní sch
 ůzky)Recepce na ZÚ Washington DC\nÚterý\, 11. 6. 2024 - Washington DCB
 usiness program dle stanoveného programu \nStředa\, 12. 6. 2024 - Washi
 ngton DC-New York CityDopoledne Washington DCPoledne - přesun do New York
 uVečer - pitch night s investory a networkingová recepce \nČtvrtek\, 1
 3. 6. 2024 - New York CityDopoledne - Thomas J. Watson Reserch CenterOdpol
 edne - další business program \nPátek\, 14. 6. 2024 - New York CityDop
 oledne - pitch event / další business programOdpoledne - odlet z NYC do 
 Prahy \nSobota\, 15. 6. 2024 - PrahaDopoledne - přílet do Prahy\n\nDal
 ší program v jednání/bude doplňován a upřesňován a sdílen s úč
 astníky.\nZálohová cena za účast v podnikatelské delegaci je 79.999
 \,- Kč včetně DPH (pro členy Svazu průmyslu a dopravy ČR platí cena
  69.999\,- Kč). Obsah účastnického balíčku je rozepsán v přihláš
 ce.\nV případě zájmu o účast Vás prosíme o následující:\n\nVypl
 nění a podepsání závazné přihlášky\, její naskenování a zasl
 ání e-mailem na adresu mnatafalusi@spcr.cz nejpozději do 30. dubna 20
 24 do 17:00.\nSoučasně s přihláškou je nutné vyplnit i elektronick
 ý formulář\, který obsahuje informace nezbytné pro Vaše uvedení v 
 katalogu podnikatelské mise\, vyhledání vhodných partnerů pro B2B net
 working\, ale i pro odbavení v letadle vládní letky či ubytování v h
 otelu.\nZaslání skenu datové stránky vašeho pasu (platnost pasu min
 . 6 měsíců po návratu zpět do ČR) a skenu stránky ve stejném pase 
 s platným vylepeným americkým vízem B1/B2 – pokud jím disponujete\;
  pokud ne\, vyčkejte prosím na instrukce SP ČR.\nProsíme také o vypln
 ění jednoho vzorového snímku v powerpointu do společné prezentace\
 , která může být promítána v rámci networkingových akcí.\nZáslá
 ní profilové fotografie účastníka do připraveného katalogu firem 
 (min. rozlišení 500 Kb\, 600 x 800 pixelů)\n\nVzhledem ke skutečnosti\
 , že se cesta uskuteční vládním speciálem\, MUSÍ všichni účastn
 íci na palubě disponovat platným americkým vízem typu B1/B2 vylepený
 m v pase. EST-a nestačí. Vízum uděluje ZÚ USA v Praze a jeho udělen
 í je spojené s návštěvou na ZÚ a případným pohovorem. Platnost to
 hoto víza je 5–10 let.\nPokud již disponujete tímto platným vízem (
 optimální varianta)\, zašlete nám prosím jeho sken. Pokud nikoliv\, p
 o uzavření přihlášek Vám začátkem května zašleme instrukce k vy
 řízení víza na ZÚ USA v Praze.\nUpozorňujeme\, že bez vyplnění el
 ektronického formuláře nemůžeme Vaši přihlášku zpracovat. Výběr
  místních firem a partnerů pro networking bude probíhat na základě V
 ámi dodaných profilů a informací o Vaší firmě v tomto elektronické
 m formuláři. Prosíme proto o co nejkonkrétnější upřesnění Vaši
 ch zájmů.\nPři vyplňování profilu mějte prosím na paměti\, že sl
 ouží také jako podklad pro výrobu prezentačního tištěného katalog
 u mise\, jehož cílem je co nejlépe druhou stranu seznámit s profily a 
 kontaktními údaji zúčastněných firem.\nPo obdržení Vaší závazn
 é přihlášky a provedení elektronické registrace Vám zašleme dalš
 í pokyny a zálohovou fakturu na účastnický poplatek. Další podklady
  a informace Vám budeme průběžně zasílat elektronickou poštou. Pod
 nikatelskou misi organizačně zajišťuje manažer Sekce vnějších vzta
 hů Martin Natafaluši (email: mnatafalusi@spcr.cz\, tel. 733 643 556).\
 nVzhledem k omezené kapacitě a potřebě vyřízení víz do USA prosím
 e o včasnou registraci. Pořadatelé si vyhrazují právo odmítnout záj
 emce o účast s ohledem na vhodnost oborového zaměření v případě p
 řevisu poptávky nad počtem míst v letadle. Děkujeme za pochopení.\nT
 ěšíme se na Vaši účast a spolupráci s Vámi.\n \nVíce o USA a obc
 hodních příležitostech v této zemi najdete zde.\n
URL:https://www.spcr.cz/podnikatelska-mise-do-usa
DTSTART:20240610T080000
DTEND:20240615T120000
LOCATION:
END:VEVENT
END:VCALENDAR
