BEGIN:VCALENDAR
PRODID:-//eluceo/ical//2.0/EN
VERSION:2.0
CALSCALE:GREGORIAN
BEGIN:VEVENT
UID:6ec937e91e973348a133992589902db1
DTSTAMP:20260423T213618Z
SUMMARY:Setkání zaměstnavatelů s OIP Karlovarského kraje
DESCRIPTION:Název akce: Setkání zaměstnavatelů s OIP Karlovarského kr
 aje\nURL: https://www.spcr.cz/setkani-zamestnavatelu-s-oip-karlovarskeho-k
 raje\nPopis: \n\nSvaz průmyslu a dopravy ČR si Vás v rámci projektu 
 „Podpora národního\, odvětvového a regionálního sociálního dialo
 gu v ČR“ dovoluje pozvat na akci \nSETKÁNÍ ZAMĚSTNAVATELŮ S OIP KA
 RLOVARSKÉHO KRAJE\n11. dubna  2024\, 9:00 – 12:00 hod.Zasedací místn
 ost společnost Vodakva\, Studentská 328/64\, 360 07 Karlovy Vary \nDov
 olujeme si vás pozvat na pravidlné setkání s odborníky Oblastního In
 spektorátu práce pro Plzeňský a Karlovarský kraj. Na setkání je mo
 žné vznést dotazy\, případně otevřít specifický problém z prost
 ředí Vaší firmy a získat tak cenné rady od špičkových odborníků
 .\nTématické okruhy\n\nPoznatky z kontrol - nejčastější úrazy\, ne
 moci z povolání\, jejich hlášení a odškodňování\nPoznatky z kont
 rol – BOZP a VTZ\nPoznatky z kontrol pracovišť a stavenišť\nZaměst
 návání cizinců a BOZP\nNovinky z legislativy v oblasti zaměstnanosti 
 a pracovněprávních vztahů\n\nŘEČNÍCI\n\nJUDr. Jana Werdanová – v
 edoucí inspektorka Oblastního inspektorátu práce pro Plzeňský kraj 
 a Karlovarský kraj\nIng. Vilém Schwab – vedoucí oddělení BOZP-VTZ\n
 \nČASOVÝ HARMONOGRAM\n8:45 – 9:00         prezence\n9:00 – 1
 2:00      informační blok včetně diskuze\nRegistrace\n\nNa setká
 ní se prosím přihlaste přes registrační formulář nejpozději do 9.
  dubna 2024.\n\nKontakt\n\nIng. Radka Bartíková\, regionální manažerk
 a pro Ústecký a Karlovarský kraj (731 411 179\, rbartikova@spcr.cz)\n\
 nAkce probíhá v rámci projektu „Podpora národního\, odvětvového a
  regionálního sociálního dialogu v ČR“\,  který je financován Ev
 ropskou unií prostřednictvím Operačního programu Zaměstnanost+ a st
 átního rozpočtu České republiky. Projekt realizuje Svaz průmyslu a d
 opravy České republiky spolu s Českomoravskou konfederací odborových 
 svazů.\n
URL:https://www.spcr.cz/setkani-zamestnavatelu-s-oip-karlovarskeho-kraje
DTSTART:20240411T090000
DTEND:20240411T120000
LOCATION:
END:VEVENT
END:VCALENDAR
