BEGIN:VCALENDAR
PRODID:-//eluceo/ical//2.0/EN
VERSION:2.0
CALSCALE:GREGORIAN
BEGIN:VEVENT
UID:f84e2dbc7ddea86f89cbb1e2f7e1fe96
DTSTAMP:20260423T113152Z
SUMMARY:Seminář pro české firmy k financování projektů v agribusines
 su
DESCRIPTION:Název akce: Seminář pro české firmy k financování projek
 tů v agribusinessu\nURL: https://www.spcr.cz/seminar-pro-ceske-firmy-k-fi
 nancovani-projektu-v-agribusinessu\nPopis: \n\nMinisterstvo financí Vás 
 zve na seminář Mezinárodní finanční korporace (IFC) ze Skupiny Svět
 ové banky k financování projektů v sektoru agribusinessu. Seminář 
 poskytne českým firmám informace o možnostech zapojení do projektu IF
 C Agri Resilience Project\, jehož cílem je posílení odolnosti potravin
 ových systémů ve střední a východní Evropě\, identifikace investi
 ční příležitosti v potravinářském a zemědělském průmyslu vhodn
 ých pro financování prostřednictvím IFC – se naměřením na realiz
 aci na Ukrajině.\nSeminář nazvali Czech-Ukrainian Agribusiness Partners
 hips: Seeding Growth for Resilience and Sustainability a organizují jej s
 polečně s Ministerstvem průmyslu a obchodu\, Ministerstvem zemědělstv
 í a IFC. Seminářem provede ředitelka mezinárodního odboru Ministerst
 va financí\, prezentující přiletí z centrály IFC z Washingtonu DC.
  Na závěr semináře proběhne networking s možností individuálních 
 jednání se zástupci IFC – proto upřednostňují jednoznačně osobn
 í účast.\nSeminář se bude konat v úterý 26. března 2024 v sídle
  Ministerstva průmyslu a obchodu\, Na Františku 32.\nPozvánku a program
  v anglické verzi v příloze. Stručnou pozvánku v české verzi nal
 eznete na  webu MF. Registraci na webinář provedete pod  tímto odkazem.
 \n
URL:https://www.spcr.cz/seminar-pro-ceske-firmy-k-financovani-projektu-v-ag
 ribusinessu
DTSTART:20240326T093000
DTEND:20240326T130000
LOCATION:
END:VEVENT
END:VCALENDAR
