BEGIN:VCALENDAR
PRODID:-//eluceo/ical//2.0/EN
VERSION:2.0
CALSCALE:GREGORIAN
BEGIN:VEVENT
UID:32618b57510ac57b315468ae63bcd6a6
DTSTAMP:20260423T145923Z
SUMMARY:Podnikatelská mise do Maroka a Mauritánie
DESCRIPTION:Název akce: Podnikatelská mise do Maroka a Mauritánie\nURL: 
 https://www.spcr.cz/podnikatelska-mise-do-maroka-mauritanie\nPopis: \n\nTA
 TO MISE BUDE POSUNUTA NA NOVÉ TERMÍNY\, O KTERÝCH VÁS BUDEME VČAS INF
 ORMOVAT.\n
URL:https://www.spcr.cz/podnikatelska-mise-do-maroka-mauritanie
DTSTART:20240519T080000
DTEND:20240524T170000
LOCATION:
END:VEVENT
END:VCALENDAR
