BEGIN:VCALENDAR
PRODID:-//eluceo/ical//2.0/EN
VERSION:2.0
CALSCALE:GREGORIAN
BEGIN:VEVENT
UID:97235c6fcfe05d37d9d57f21e46692ae
DTSTAMP:20260423T145023Z
SUMMARY:Fastener Taiwan 2024
DESCRIPTION:Název akce: Fastener Taiwan 2024\nURL: https://www.spcr.cz/fas
 tener-taiwan-2024\nPopis: \n\nRádi bychom Vás informovali o blížícím
  se veletrhu Fastener Taiwan 2024\, druhém největším veletrhu spojovac
 ího materiálu v Asii a třetím největším na světě.\nVeletrh se bud
 e konat na výstavišti Kaohsiung od 5. června do 7. června 2024. \nFast
 ener Taiwan nabízí kompletní řadu spojovacích produktů\, které jsou
  vystaveny na výstavních plochách zaměřených na materiály\, formy a
  nástroje\, matice\, šrouby a šrouby a stroje a výroba.\nV rámci podp
 ory vystavovatelů na veletrhu jsou nabízeny zajímave motivační balí
 čky\, které jsou uvedeny v přihlášce. \nV případě zájmu účastn
 it se veletrhu jako vystavovatel vyplňte přihlášku výše a zašlete j
 i na email czech@sa.moea.gov.tw nebo cztwec01@sa.moea.gov.tw .\nPodrobn
 é ifnormace naleznete na webových stránkách veletrhu nebo kontaktujte
  Lukáše Bílka\, Taiwan External Trade Development Council (TAITRA) Pr
 ague - CZ\, (+420) 775071885\, lukas@taitra.org.tw\n \n
URL:https://www.spcr.cz/fastener-taiwan-2024
DTSTART:20240605T000000
DTEND:20240607T235959
LOCATION:
END:VEVENT
END:VCALENDAR
