BEGIN:VCALENDAR
PRODID:-//eluceo/ical//2.0/EN
VERSION:2.0
CALSCALE:GREGORIAN
BEGIN:VEVENT
UID:d94c33711c185090d31d4e3911c18130
DTSTAMP:20260423T125537Z
SUMMARY:Online seminář: Francie – správným směrem k exportnímu úsp
 ěchu
DESCRIPTION:Název akce: Online seminář: Francie – správným směrem k
  exportnímu úspěchu\nURL: https://www.spcr.cz/online-seminar-francie-sp
 ravnym-smerem-k-exportnimu-uspechu\nPopis: \n\nPřemýšlíte o exportu do
  Francie\, chtěli byste zkusit zemi dobýt formou e-commerce nebo byste s
 e rádi více dozvěděli o možnostech založení pobočky? Na všechny t
 yto body se Vám budeme snažit zodpovědět v našem online exportním se
 mináři\, který bude zaměřen na Francii.Anotace:\n\nAktuální situace
  na trhu – makroekonomická situace\nPerspektivní obory pro české exp
 ortéry\nObchodní kultura Francie a její úskalí\nJak správně vyhled
 ávat partnery a na co si dát pozor?\nSlužby CzechTrade Francie\nZalože
 ní pobočky a legální úskalí tohoto kroku\nPracovní právo ve Franci
 i\nDaňový systém ve Francii\nE-commerce – legislativní prostředí. 
 Na co si dát pozor? Jak se co nejlépe připravit?\nZkušenosti úspěšn
 ě exportující firmy\nOtázky & Odpovědi\n\nVíce informací a registra
 ce na akci naleznete zde. \n
URL:https://www.spcr.cz/online-seminar-francie-spravnym-smerem-k-exportnimu
 -uspechu
DTSTART:20240403T100000
DTEND:20240403T120000
LOCATION:
END:VEVENT
END:VCALENDAR
