BEGIN:VCALENDAR
PRODID:-//eluceo/ical//2.0/EN
VERSION:2.0
CALSCALE:GREGORIAN
BEGIN:VEVENT
UID:1f20988fa538f6c23c09324ba09b0ce8
DTSTAMP:20260423T130212Z
SUMMARY:Online seminář: Doprava zboží v mezinárodním obchodu
DESCRIPTION:Název akce: Online seminář: Doprava zboží v mezinárodním
  obchodu\nURL: https://www.spcr.cz/online-seminar-doprava-zbozi-v-mezinaro
 dnim-obchodu\nPopis: \n\nZnalost zákonitostí i zvláštností mezinárod
 ní přepravy by mělo být základní výbavou mimo jiné i pro obchodní
 ky s přeshraniční působností. Seminář " Doprava zboží v mezináro
 dním obchodu“ nabídne vhled do těchto okruhů fungování logistiky:\
 n\nDopravce a přepravce\, Smlouva o přepravě\, základní body jejího 
 obsahu\nNámořní přeprava\, na co si dát pozor při sjednávání a co
  očekávat po nalodění\nLetecká přeprava\, výhody i nevýhody\nŽele
 zniční přeprava na dlouhé vzdálenosti jako alternativa k dopravě po 
 moři\nMůže i transkontinentální silniční přeprava být opcí pro d
 ovoz zboží?\nAktuální problémy v přepravě zboží z DV\nJaké dodac
 í podmínky Incoterms zvolit pro jaké přepravy\nPojistit či nepojistit
 \n\nRegistrace na akci a více info je k dispozici zde. \n
URL:https://www.spcr.cz/online-seminar-doprava-zbozi-v-mezinarodnim-obchodu
DTSTART:20240410T090000
DTEND:20240410T130000
LOCATION:
END:VEVENT
END:VCALENDAR
