BEGIN:VCALENDAR
PRODID:-//eluceo/ical//2.0/EN
VERSION:2.0
CALSCALE:GREGORIAN
BEGIN:VEVENT
UID:1c3ca119ae736e51a23a25e3b6c1578b
DTSTAMP:20260423T125219Z
SUMMARY:Webinář: Národní ceny ČR 2024
DESCRIPTION:Název akce: Webinář: Národní ceny ČR 2024\nURL: https://w
 ww.spcr.cz/webinar-narodni-ceny-cr-2024\nPopis: \n\nPřemýšlíte o tom\,
  že přihlásíte Vaši organizaci do prestižní soutěže Národních 
 cen ČR na rok 2024\, ale nejste si jistí\, co vše tato soutěž obnáš
 í?\nPokud jste odpověděli ano\, tak právě pro Vás je určena online 
 informační schůzka\, kde se dozvíte o veškerých důležitých inform
 acích a podmínkách pro vstup do soutěže (výběr vhodné oblasti)\, o
  jejím následném průběhu a zejména jejích přínosech.\nPokud máte
  zájem se této informační online schůzky zúčastnit\, registrujte se
  prosím zde\, a to nejpozději do 14. 3. 2024. Konkrétní odkaz pro p
 řihlášení obdržíte následně po Vaší registraci.\n\nPodrobnosti o
  akci zde\n\nV případě dotazů nás kontaktujte na e-mailové adrese: 
 sekretariatRKCR@mpo.cz\n
URL:https://www.spcr.cz/webinar-narodni-ceny-cr-2024
DTSTART:20240314T100000
DTEND:20240314T113000
LOCATION:
END:VEVENT
END:VCALENDAR
