BEGIN:VCALENDAR
PRODID:-//eluceo/ical//2.0/EN
VERSION:2.0
CALSCALE:GREGORIAN
BEGIN:VEVENT
UID:75880425de08c0427ceb9c1037bb2d1a
DTSTAMP:20260423T162819Z
SUMMARY:ROAD SHOW - Český podnikatel jako součást evropského byznysu
DESCRIPTION:Název akce: ROAD SHOW - Český podnikatel jako součást evro
 pského byznysu\nURL: https://www.spcr.cz/road-show-cesky-podnikatel-jako-
 soucast-evropskeho-byznysu\nPopis: \n\nJménem vedení Plzeňského kraje 
 a ředitele CEBRE – Česká podnikatelská reprezentace při EU připrav
 ujícího projekt „ROAD SHOW – ČESKÝ PODNIKATEL JAKO SOUČÁST EVROP
 SKÉHO BYZNYSU – DNEŠEK A ZÍTŘEK“\, Vás srdečně zveme k účasti
  na debatě s odbornou veřejností a prezentací zainteresovaných stran 
 na krajské úrovni s celorepublikovou působností (EU instituce\, státn
 í správa\, samospráva\, průmysl\, věda\, výzkum a vzdělávání) na
  téma prosazování zájmů českých podnikatelských subjektů v rámci
  legislativního procesu Evropské Unie a jejich schopností proaktivního
  zapojení do tohoto procesu s cílem eliminovat krizové situace\, zajiš
 tění prosperity České republiky včetně zvýšení aktivní účasti 
 českých podnikatelských subjektů na fondech EU a v rámci exportní st
 rategie České republiky.Odborná debata se koná dne 23. 4. 2024 v Konfe
 renční sál\, Střední odborné učiliště elektrotechnické\, Vejprni
 cká 56\, Plzeň\, od 17:00 hod.\nVíce infromací a možnost přihlášky
  najdete na webu CEBRE zde a v přiloženém dokumentu.\n
URL:https://www.spcr.cz/road-show-cesky-podnikatel-jako-soucast-evropskeho-
 byznysu
DTSTART:20240423T170000
DTEND:20240423T213000
LOCATION:
END:VEVENT
END:VCALENDAR
