BEGIN:VCALENDAR
PRODID:-//eluceo/ical//2.0/EN
VERSION:2.0
CALSCALE:GREGORIAN
BEGIN:VEVENT
UID:5924d8a6549d67b044412912987a0fc3
DTSTAMP:20260423T173344Z
SUMMARY:Webinář k zákonu o kybernetické bezpečnosti
DESCRIPTION:Název akce: Webinář k zákonu o kybernetické bezpečnosti\n
 URL: https://www.spcr.cz/webinar-k-zakonu-o-kyberneticke-bezpecnosti\nPopi
 s: \n\nStrašákem mnohých firem je nová evropská směrnice o kyberbezp
 ečnosti NIS2\, která se má do konce roku propsat do české legislativy
 .\nJak se na ni včas připravit? Buďte o krok napřed a zeptejte se na b
 ezplatném webináři\, který připravujeme s NÚKIB. Uskuteční se 26. 
 března 2024 od 9:30 do 11:00 a hlásit se můžete už teď.\n
URL:https://www.spcr.cz/webinar-k-zakonu-o-kyberneticke-bezpecnosti
DTSTART:20240326T093000
DTEND:20240326T110000
LOCATION:
END:VEVENT
END:VCALENDAR
