BEGIN:VCALENDAR
PRODID:-//eluceo/ical//2.0/EN
VERSION:2.0
CALSCALE:GREGORIAN
BEGIN:VEVENT
UID:a9d9be092a3ca5d327d72d5f50685462
DTSTAMP:20260423T125941Z
SUMMARY:IVS Industrial Valve Summit 2024 – Itálie 
DESCRIPTION:Název akce: IVS Industrial Valve Summit 2024 – Itálie \nURL
 : https://www.spcr.cz/ivs-industrial-valve-summit-2024-italie\nPopis: \n\n
 Dovolujeme si Vás informovat o Industrial Valve Summit\, jež je předn
 í mezinárodní událostí pro technologie ventilů a řešení pro regul
 aci průtoku v ropném a plynárenském průmyslu.Jde o skutečný informa
 ční uzel\, díky kterému můžete držet krok s trendy na trhu\, setká
 vat se s klíčovými světovými hráči\, nejkvalitnějšími výrobním
 i postupy a najít nejnovější technologické inovace.\nOd průmyslu\, p
 ro průmyslDíky kombinaci vysoce kvalitních vystavovatelů a vysoce spec
 ializovaných konferencí nabízí IVS ty nejlepší příležitosti pro r
 ůst vašeho podnikání.\nDůvody\, proč na IVS 2024\n\nSetkání s odb
 ěrateli a dodavateli\, kteří mají zájem o nákup nebo poskytování n
 ejlepších technologií ventilů a řešení pro regulaci průtoku\nSezn
 ámení s nejnovějšími průmyslovými inovacemi a trendy v konstrukci a
 rmatur\, jakož i v oblasti projektování\, výstavby\, provozu a údržb
 y průmyslových závodů\nMožnost získat a sdílet know-how a odborné 
 znalosti s profesionály a specialisty v oboru\nPředstavení své společ
 nosti\, produktů a služeb exkluzivnímu a cílenému odbornému publiku\
 nPosílení obchodní image své společnosti tím\, že budete vystavovat
  po boku předních světových výrobců\nEfektivní zviditelnění své 
 firemní značky díky propagačním aktivitám IVS\n\nIVS – Industrial 
 Valve Summit je:\n\nFórum pro průmysl průmyslových armatur\nPlatforma 
 inovací a technologický summit\nMísto\, kde se můžete setkat s trendy
 \nOdrazový můstek pro investiční rozhodnutí\nMezinárodní síť odbo
 rníků a specialistů \n\nVíce informací naleznete v brožuře nebo na
  webových stránkách akce. \nJestli Vás tato informace zaujala a pře
 jete si dozvědět se více o výstavě\, účasti nebo jiných aspektech\
 , můžete rovněž kontaktovat zástupce v ČR\, pana Michala Kohoutka\, 
 michal.kohoutek@sales4growth.eu\, +420 722 949 688\, případně přímo o
 rganizátora v Itálii\, pana L. Pandolfiho\, l.pandolfi@confindustriaberg
 amo.it\, +39 035 275 381.\n
URL:https://www.spcr.cz/ivs-industrial-valve-summit-2024-italie
DTSTART:20240514T000000
DTEND:20240516T235959
LOCATION:
END:VEVENT
END:VCALENDAR
