BEGIN:VCALENDAR
PRODID:-//eluceo/ical//2.0/EN
VERSION:2.0
CALSCALE:GREGORIAN
BEGIN:VEVENT
UID:32eaa250efddb0671f544c51d632f5a8
DTSTAMP:20260423T125836Z
SUMMARY:Diskuse: Transformace uhelných regionů na Ukrajině
DESCRIPTION:Název akce: Diskuse: Transformace uhelných regionů na Ukraji
 ně\nURL: https://www.spcr.cz/diskuse-transformace-uhelnych-regionu-na-ukr
 ajine\nPopis: \n\nMožnosti využití českých zkušeností pro transform
 aci uhelných regionů na UkrajiněKdo: zástupci municipalit\, nadací a 
 organizací občanské společnosti z Ukrajiny\, aktéři z ČR – zejmé
 na neziskový sektor\, zástupci ministerstevCíl: Přiblížit zástupců
 m z Ukrajiny možnosti spravedlivé transformace uhelných regionů a zku
 šenost s nastavováním a dosavadním využíváním prostředků z evrop
 ského Fondu spravedlivé transformace v ČR.Termín: 22. března 2024\, 9
 :30–12:00Místo konání: Impact Hub Praha D10\, Drtinova 557/10\, Praha
  5.\nRegistrace: https://docs.google.com/forms/d/e/1FAIpQLSf4tSg3-1DGFFOty
 uZ4zTgfAbGwusneamJOTBplY394HbUjTA/viewformBližší informace: pavel.priby
 l@fors.cz\n
URL:https://www.spcr.cz/diskuse-transformace-uhelnych-regionu-na-ukrajine
DTSTART:20240322T093000
DTEND:20240322T120000
LOCATION:
END:VEVENT
END:VCALENDAR
