BEGIN:VCALENDAR
PRODID:-//eluceo/ical//2.0/EN
VERSION:2.0
CALSCALE:GREGORIAN
BEGIN:VEVENT
UID:c0d9cf88345507535f6c803af11d2be1
DTSTAMP:20260423T145949Z
SUMMARY:Online diskusní fórum: Dotační příležitosti pro firmy
DESCRIPTION:Název akce: Online diskusní fórum: Dotační příležitosti
  pro firmy\nURL: https://www.spcr.cz/online-diskusni-forum-dotacni-prilezi
 tosti-pro-firmy\nPopis: \n\nChystáte se investovat do rozvoje a vzděláv
 ání svých nebo budoucích zaměstnanců?\nUvažujete o investici do obn
 ovitelných zdrojů energie?\nHledáte podporu v oblasti výzkumu\, vývo
 je a inovací?\nRádi byste nakoupili nové technologie a vybavení umož
 ňující  následnou digitalizaci a automatizaci výroby?\n\nSeznámíme
  vás s právě probíhajícími programy a představíme vám projekty n
 a podporu zaměstnavatelů ve výše uvedených oblastech. Přijďte s n
 ámi diskutovat i vaše zkušenosti z praxe.\nŘEČNÍCI\n\nZástupci Kra
 jské pobočky Úřadu práce ČR v Ústí nad Labem\, Agentury pro podpor
 u podnikání a investic CzechInvest\, Agentury pro podnikání a inovace\
 , Krajské hospodářské komory Ústeckého kraje\n\nČasový harmonogram
 \n08:45 – 09:00      Připojení účastníků\n09:00 – 11:00  
     Informační blok + diskuse\nRegistrace\n\nNa akci se\, prosím\, r
 egistrujte ZDE\, nejpozději do 18. 3. 2024.\n\nREALIZACE AKCE\n\nDiskusn
 í fórum bude probíhat online na platformě ZOOM. Není nutná žádná 
 instalace programu. Pro připojení se k diskusnímu fóru pro Vás bude d
 ostačující odkaz\, který obdržíte od organizátora akce nejpozději 
 v den konání akce na e-mail uvedený v registraci. Účast na diskusní
 m fóru bude umožněna pouze registrovaným osobám.\n\nKontakt\n\nIng. R
 adka Bartíková\, regionální manažerka pro Ústecký a Karlovarský kr
 aj (731 411 179\, rbartikova@spcr.cz)\n\nAkce probíhá v rámci projektu 
 „Podpora národního\, odvětvového a regionálního sociálního dialo
 gu v ČR“\,  který je financován Evropskou unií prostřednictvím Op
 eračního programu Zaměstnanost+ a státního rozpočtu České republik
 y. Projekt realizuje Svaz průmyslu a dopravy České republiky spolu s Č
 eskomoravskou konfederací odborových svazů.\n
URL:https://www.spcr.cz/online-diskusni-forum-dotacni-prilezitosti-pro-firm
 y
DTSTART:20240320T090000
DTEND:20240320T110000
LOCATION:
END:VEVENT
END:VCALENDAR
