BEGIN:VCALENDAR
PRODID:-//eluceo/ical//2.0/EN
VERSION:2.0
CALSCALE:GREGORIAN
BEGIN:VEVENT
UID:fa6414f2501c662a2f03fbb47b13c024
DTSTAMP:20260423T125537Z
SUMMARY:Incomingová podnikatelská mise z Indie
DESCRIPTION:Název akce: Incomingová podnikatelská mise z Indie\nURL: htt
 ps://www.spcr.cz/incomingova-podnikatelska-mise-z-indie\nPopis: \n\nSvaz p
 růmyslu a dopravy ČR ve spolupráci se Velvyslanectvím České republik
 y v Dillí a Ministerstvem zahraničních věcí ČR vás tímto zvou na 
 účast v business fóru pri příležitosti incomingové mise z Indie. P
 ředmětné business fórum se bude konat 21.3. od 9:30 do 12:00 hod. v sa
 lónku Ministertva zahraničních věcí ČR (Černínský palác).\nPrior
 itní sektor\, na které je toto business fórum zaměřeno je oblast hydr
 ogen (jiné obory jsou k dalšímu zvážení po přihlášení).Potvzené
  indické firmy\, které při této příležitosti zavítají do Prahy na
 jdete v tomto seznamu.\nStruktura podnikatelského fóra bude standardní 
 - úvodní proslovy a pak neformální debata účastníků při kulatém 
 stolu. Fórum bude moderováno.\nProgram podnikatelského fóra a další 
 informace budou zveřejněny později pouze zaregistrovaným firmám.\nNa 
 indické incomingové business fórum se můžete registrovat přes regist
 rační formulář zde.\nDeadline registrace je 18.3.2024 (včetně).\nPra
 covním jazykem tohoto business fóra bude angličtina. \nV případě ja
 kýchkoliv nejasností či dotazů se na nás neváhejte obrátit na e-mai
 le mnatafalusi@spcr.cz \n
URL:https://www.spcr.cz/incomingova-podnikatelska-mise-z-indie
DTSTART:20240321T093000
DTEND:20240321T120000
LOCATION:
END:VEVENT
END:VCALENDAR
