BEGIN:VCALENDAR
PRODID:-//eluceo/ical//2.0/EN
VERSION:2.0
CALSCALE:GREGORIAN
BEGIN:VEVENT
UID:43d63aa011ac0c987e4e72c06e9c9e8a
DTSTAMP:20260423T150340Z
SUMMARY:Rebuilding Ukraine: Procurement Workshop Agenda 
DESCRIPTION:Název akce: Rebuilding Ukraine: Procurement Workshop Agenda \n
 URL: https://www.spcr.cz/rebuilding-ukraine-procurement-workshop-agenda\nP
 opis: \n\nRebuilding Ukraine: \nProcurement Workshop Agenda \nMarch 14\, 2
 024| 09:00 am EST\nhttps://events.trade.gov/en/TradeGov/RebuildingUkraineP
 rocurementWorkshop-9884-17077874/form.php\nDon't miss the chance to better
  understand Ukraine's procurement landscape! Join us for an in-depth webin
 ar where Commercial Officers and IFI representatives will guide you throug
 h the ins and outs of bidding on procurement opportunities offered by the 
 EBRD\, UNDP\, and the World Bank. Discover 'best practices' unique to each
  institution and walk away with essential tips and tricks to boost your co
 mpetitive edge. Don't miss this exclusive opportunity to position your com
 pany for success in winning Ukraine-related tenders. Register now for this
  invaluable opportunity!\n\n\n\n\n\n\n\n\n\n\n \n\n\n\nAGENDA\nMarch 14\,
  2024\n09:00 – 09:05 a.m.  Welcoming Remarks: David De Falco\, Deputy A
 ssistant Secretary for Europe and Eurasia\, U.S. Department of Commerce \
 n09:05 – 09:15 a.m.  Setting the Scene: Trade & Investment in Ukraine: 
 Nathan Seifert\, Senior Commercial Officer\, U.S. Embassy Kyiv\n09:15 – 
 10:25 a.m.  Procurement ‘Best Practices’ Presentations\n\nDennis Simm
 ons\, Senior Commercial Officer\, European Bank for Reconstruction and Dev
 elopment (EBRD\, 30 minutes)\nSusan Hettleman\, Commercial Officer\, Unite
 d Nations Development Programme (UNDP\, 15 minutes)\nDanica Starks\, Comme
 rcial Officer\, World Bank (20 minutes)\n\n10:25 – 10:55 a.m.  Q&A with
  Presenters \n10:55 – 11:00 a.m.  Closing Remarks\nPresenters will disc
 uss ‘best practices’ related to the IFIs they oversee and work with. P
 resenters will provide tips + tricks for U.S. companies to best position t
 hemselves to win Ukraine-related tenders through their respective platform
 s.\nModerator: Matthew Edwards\, Director\, Office of Russia\, Ukraine & E
 urasia\n\n\n\n \n\n\n\nQUESTIONS?\nPlease email: \nAgnes.Pawelkowska@tra
 de.gov or shannon.christenbury@trade.gov\n
URL:https://www.spcr.cz/rebuilding-ukraine-procurement-workshop-agenda
DTSTART:20240314T090000
DTEND:20240314T110000
LOCATION:
END:VEVENT
END:VCALENDAR
