BEGIN:VCALENDAR
PRODID:-//eluceo/ical//2.0/EN
VERSION:2.0
CALSCALE:GREGORIAN
BEGIN:VEVENT
UID:20da2d9a7c906c9da6fdf12ab7c02897
DTSTAMP:20260423T192754Z
SUMMARY:Amazon - důležitý marketplace pro exportéry
DESCRIPTION:Název akce: Amazon - důležitý marketplace pro exportéry\nU
 RL: https://www.spcr.cz/amazon-dulezity-marketplace-pro-exportery\nPopis: 
 \n\nDovolujeme si Vás pozvat na seminář pořádaný agenturou CzechTrad
 e. \nAnotace:\n\nPředstavení Amazon Marketplace -  co je třeba zváž
 it\, možnosti distribuce     \nExpanze prostřednictvím EXPANDO - S
 dílení zkušeností – úspěšné i neúspěšné případy\nExpanze d
 o USA - příklady úspěšných postupů\, ak na získávání obchodní
 ch partnerů\n\nBližší informace a možnost registrace zde. \n
URL:https://www.spcr.cz/amazon-dulezity-marketplace-pro-exportery
DTSTART:20240321T140000
DTEND:20240321T160000
LOCATION:
END:VEVENT
END:VCALENDAR
