BEGIN:VCALENDAR
PRODID:-//eluceo/ical//2.0/EN
VERSION:2.0
CALSCALE:GREGORIAN
BEGIN:VEVENT
UID:fc464e6adb1229040a6ebba618e338da
DTSTAMP:20260423T193625Z
SUMMARY:Online expanze na NĚMECKÝ trh: Jak na online prodej v Německu
DESCRIPTION:Název akce: Online expanze na NĚMECKÝ trh: Jak na online pro
 dej v Německu\nURL: https://www.spcr.cz/online-expanze-na-nemecky-trh-jak
 -na-online-prodej-v-nemecku\nPopis: \n\nDovolujeme si Vás pozvat na semin
 ář pořádaný agenturou CzechTrade.\nCílem semináře je získání te
 oretických i praktických znalostí o německém e-commerce a představen
 í praktických zkušeností a nástrojů pro oslovováním německých z
 ákazníků. Dále se dozvíte:\n\nZákladní rozdíly v e-commerce oproti
  CZ trhu\, tvorba analýzy trhu a strategie expanze\nOnline marketing vers
 us běžné marketingové nástroje Německu\n\nBližší informace inform
 ace zde.\n
URL:https://www.spcr.cz/online-expanze-na-nemecky-trh-jak-na-online-prodej-
 v-nemecku
DTSTART:20240319T100000
DTEND:20240319T120000
LOCATION:
END:VEVENT
END:VCALENDAR
