BEGIN:VCALENDAR
PRODID:-//eluceo/ical//2.0/EN
VERSION:2.0
CALSCALE:GREGORIAN
BEGIN:VEVENT
UID:addcb7ff39546db6a0b454eee3094356
DTSTAMP:20260423T130206Z
SUMMARY:Online seminář: NIZOZEMSKÝ TRH - Vodíkové hospodářství a ob
 chodní a investiční příležitostI
DESCRIPTION:Název akce: Online seminář: NIZOZEMSKÝ TRH - Vodíkové hos
 podářství a obchodní a investiční příležitostI\nURL: https://www.
 spcr.cz/online-seminar-nizozemsky-trh-vodikove-hospodarstvi-obchodni-inves
 ticni-prilezitosti\nPopis: \n\nDovolujeme si Vás pozvat na seminář poř
 ádaný agenturou CzechTrade.\nCílem semináře je seznámit české firm
 y s aktuální situací v oblasti vodíkového hospodářství v Nizozemsk
 u a poskytnout jim informace o možnostech zapojení se do této dynamick
 é platformy.\nDále se dozvíte:\n\nZákladní informace o Nizozemsku\, p
 řipravované projekty v oblasti vodíku podporované CzechTrade\nSituace 
 v České republice v oblasti vodíkového hospodářství\nStrategie vlá
 dy\, význam World Hydrogen Summitu\nProjekty a inovace \n\nBližší inf
 ormace a možnost registrace zde. \n
URL:https://www.spcr.cz/online-seminar-nizozemsky-trh-vodikove-hospodarstvi
 -obchodni-investicni-prilezitosti
DTSTART:20240307T110000
DTEND:20240307T123000
LOCATION:
END:VEVENT
END:VCALENDAR
