BEGIN:VCALENDAR
PRODID:-//eluceo/ical//2.0/EN
VERSION:2.0
CALSCALE:GREGORIAN
BEGIN:VEVENT
UID:a52752fd173b8ac079f4df107e7e9508
DTSTAMP:20260423T125537Z
SUMMARY:Jak uspět na exportních trzích Egypta a Kataru\, Plzeň
DESCRIPTION:Název akce: Jak uspět na exportních trzích Egypta a Kataru\
 , Plzeň\nURL: https://www.spcr.cz/jak-uspet-na-exportnich-trzich-egypta-k
 ataru-plzen\nPopis: \n\nDovolujeme si Vás pozvat na seminář pořádaný
  agenturou CzechTrade.\nAnotace semináře:\n\nAktuální situace na tamn
 ích trzích\, praktické zkušenosti a tipy na úspěšný export\nOslov
 ení potenciálního obchodního partnera a oborové příležitosti pro 
 české podnikatele\n\nIndividuální konzultace s řediteli zahraničníc
 h kanceláří CzechTrade v Egyptě a Kataru.\nVíce informací a možnost
  registerace zde. \n
URL:https://www.spcr.cz/jak-uspet-na-exportnich-trzich-egypta-kataru-plzen
DTSTART:20240305T140000
DTEND:20240305T163000
LOCATION:
END:VEVENT
END:VCALENDAR
