BEGIN:VCALENDAR
PRODID:-//eluceo/ical//2.0/EN
VERSION:2.0
CALSCALE:GREGORIAN
BEGIN:VEVENT
UID:1ae68865e3a0c8d376428a4e85c307fc
DTSTAMP:20260423T124851Z
SUMMARY:Česko-filipínské obchodní fórum
DESCRIPTION:Název akce: Česko-filipínské obchodní fórum\nURL: https:/
 /www.spcr.cz/cesko-filipinske-obchodni-forum\nPopis: \n\nJménem Hospodá
 řské komory ČR a Svazu průmyslu a dopravy ČR a Velvyslanectví Filip
 ínské republiky v ČR Vás zveme na Česko-filipínské obchodní fórum
 \, které proběhne v pátek 15. 3. od 9:00 ve Velkém sále Ministerstv
 a zahraničních věcí ČR při příležitosti státní návštěvy prez
 identa Filipínské republiky.\nČesko-filipínské obchodní fórum bude 
 slavnostně otevřeno prezidentem České republiky\, Petrem Pavlem a prez
 identem Filipínské republiky\, Ferdinandem R. Marcosem Jr. Během akce s
 e blíže seznámíte s dvěma hlavními asociacemi\, jejichž představi
 telé a členové budou tvořit doprovodnou podnikatelskou delegaci a s n
 imiž budete moci navázat osobní kontakty.\nPodnikatelská delegace bude
  tvořena zástupci a členy organizací SEIPI (Semiconductor and Electron
 ics Industries in the Philippines Foundation - https://www.seipi.org.ph/) 
 a IBPAP (IT&Business Process Association Philippines - https://ibpap.org/a
 bout-us). Na akci se tak setkáte s představiteli IT a technologického 
 sektoru Filipín z oblastí jakou jsou polovodiče\, elektronika\, hry a 
 animace\, digitalizace zdravotnictví a celé šíře IT a služeb v obla
 sti zabezpečení podnikových procesů.\nSvoji účast na tomto setkání
  prosím potvrďte nejpozději do 5. 3. 2024. Registrovaní účastníci d
 ostanou před konáním akce detailní seznam příchozí delegace. Konec 
 akce se očekává kolem 12:00. Hlavním jednacím jazykem bude angličtin
 a. Z organizačních důvodů prosíme o včasný příchod – registrac
 e začíná v 8:45 v Černínském paláci\, Loretánské nám. 5\, 118 0
 0 Praha 1-Hradčany.\nREGISTRACE: bezplatně do 5. 3. 2024 na tomto linku\
 nDOTAZY: případné dotazy směřujte na zástupce Svazu průmyslu a dopr
 avy (SP ČR) Dominika Jozu (djoza@spcr.cz)\n
URL:https://www.spcr.cz/cesko-filipinske-obchodni-forum
DTSTART:20240315T090000
DTEND:20240315T120000
LOCATION:
END:VEVENT
END:VCALENDAR
