BEGIN:VCALENDAR
PRODID:-//eluceo/ical//2.0/EN
VERSION:2.0
CALSCALE:GREGORIAN
BEGIN:VEVENT
UID:0694b10da36975e3fc3c587e2c6788f9
DTSTAMP:20260423T145939Z
SUMMARY:Mondial du Batiment - veletrh pro stavebnictví
DESCRIPTION:Název akce: Mondial du Batiment - veletrh pro stavebnictví\nU
 RL: https://www.spcr.cz/mondial-du-batiment-veletrh-pro-stavebnictvi\nPopi
 s: \n\nRádi bychom Vás pozvali na mezinárodní multioborový veletrh p
 ro stavebnictví a stavební řemesla.\nPo obnoveném a velmi úspěšném
  ročníku 2022\, kterého se zúčastnilo více než 110 000 návštěvn
 íků a 1720 vystavovatelů\, se Mondial du Bâtiment a jeho tři výstavy
  BATIMAT\, INTERCLIMA a IDÉOBAIN vrátí na pařížské výstaviště Ex
 po Porte de Versailles od 30. září do 3. října 2024. \nV souvislosti
  s novými výzvami (renovace a energetická účinnost\, dekarbonizace st
 avebních procesů a metod atd.) a změnami v řemeslech a pracovních met
 odách připravuje Mondial du Bâtiment v roce 2024 ještě širší a kom
 plexnější nabídku.\nVýstava EQUIPBAIE-METALEXPO se bude konat ve 3 vy
 hrazených pavilonech. Bude vytvořen specifický program\, který splní 
 očekávání odborníků z oboru\, vystavovatelů i návštěvníků. Pro
 gram bude zahrnovat komentované prohlídky\, workshopy\, akce a konferenc
 e\, které budou odrážet bohatost odvětví a mimořádně atraktivní n
 abídku vystavovatelů.\nNa veletrzích BATIMAT\, INTERCLIMA a IDÉOBAIN b
 ude na pořadu dne téma komplexní a vysoce efektivní renovace domů. Na
  veletrhu BATIMAT bude v pavilonu 1 zřízena obsahová zóna "Renodays by
  Batimat"\, která nabídne vysoce účinná řešení a praktické inform
 ace o předpisech.\nBližší inormace k dispozici zde.\n \n
URL:https://www.spcr.cz/mondial-du-batiment-veletrh-pro-stavebnictvi
DTSTART:20240930T080000
DTEND:20241003T170000
LOCATION:
END:VEVENT
END:VCALENDAR
