BEGIN:VCALENDAR
PRODID:-//eluceo/ical//2.0/EN
VERSION:2.0
CALSCALE:GREGORIAN
BEGIN:VEVENT
UID:b731495c78254011cc4942502b4307d4
DTSTAMP:20260423T124850Z
SUMMARY:Živá knihovna povolání
DESCRIPTION:Název akce: Živá knihovna povolání\nURL: https://www.spcr.
 cz/ziva-knihovna-povolani-1\nPopis: \n\nRozhoduješ se\, na jakou středn
 í školu půjdeš? Čím chceš být? Napadlo tě\, kde můžeš po škol
 e pracovat?Přijď si na vlastní kůži vyzkoušet zajímavé profese!Sez
 nam se s firmami ve tvém okolí a vyber si tu správnou školu\nS rozhod
 ováním vám pomůže:\n\nElektromontér - ČEZ DISTRIBUCE a.s.\nHodiná
 ř - ELTON hodinářská a.s.\nKonstruktér – Wikov MGI a.s.\nPraktická
  sestra\, sociální činnost\, ošetřovatel - Oblastní nemocnice Nácho
 d\, a. s. + Střední zdravotnická škola Náchod – Evangelická akadem
 ie\nNástrojař\, elektromechanik - ATAS elektromotory Náchod a.s.\nServi
 sní technik - Ammann Czech Republic a.s.\nVývojový technik – Merkur T
 oys s.r.o.\n\nBližší informace a kontakt pro registraci Ing. N. Vojtí
 šková\, mobil 733 643 520.\n
URL:https://www.spcr.cz/ziva-knihovna-povolani-1
DTSTART:20240305T000000
DTEND:20240305T235959
LOCATION:
END:VEVENT
END:VCALENDAR
