BEGIN:VCALENDAR
PRODID:-//eluceo/ical//2.0/EN
VERSION:2.0
CALSCALE:GREGORIAN
BEGIN:VEVENT
UID:2cdad6f3f40089f19a207c3d281418fd
DTSTAMP:20260423T125756Z
SUMMARY:Webinář - Byznysová spolupráce Pakistánu a ČR
DESCRIPTION:Název akce: Webinář - Byznysová spolupráce Pakistánu a Č
 R\nURL: https://www.spcr.cz/webinar-byznysova-spoluprace-pakistanu-cr\nPop
 is: \n\nVelvyslanectví Pákistánu v České republice pořádá virtuál
 ní webinář s cílem představit zajímavé příležitosti pro technolo
 gické společnosti v Pákistánu k expanzi do Evropy. Tohoto e-meetu se z
 účastní více než 25 špičkových IT firem a firem z České republik
 y.Webináře se zúčastní více než 25 IT společností a firem z Páki
 stánu\, vystoupí velvyslanec České republiky a ministr vědy a technol
 ogie.\nPROGRAM1. Úvodní slovo velvyslance Pákistánu v ČR2. Hlavní pr
 ojev ministra\, vědy a technologie (podle dostupnosti)3. Prezentace o IT 
 krajině Pákistánu od generálního ředitele Code District pana Ashara 
 Samdaniho a generálního ředitele Game District od Saada Hameeda.4. Disk
 usní sekce Otázky a odpovědi.CO OČEKÁVATZískejte cenné poznatky o t
 rzích v České republice od odborníků a profesionálů ve státní spr
 ávě a místních provozech.Naučte se efektivní techniky a podpořte pe
 rsonalizovanou spolupráci\, která firmám umožní škálovat v České 
 republice.Prozkoumejte\, jak může vaše společnost využít Českou rep
 ubliku jako strategický výchozí bod pro expanzi do Evropy.PROČ SE ZÚ
 ČASTNIT?Připravte své podnikání na úspěch na globální scéně pom
 ocí přizpůsobených statistik pro potenciální trhy.Naučte se praktic
 ké strategie podpořené datovými statistikami pro skutečné zlepšení
  výkonu vaší společnosti.Cílem je představit pákistánský IT poten
 ciál na českém trhu a vytvořit příležitosti pro vzájemný růst. T
 oto je vaše šance prozkoumat spolupráci z B2B partnerství a spojit se 
 s podobně smýšlejícími profesionály.Zaregistrujte se do 25.2.2024 na
  následující adrese https://forms.gle/sSumvBKpjYXb3gA6A.Máte-li jakék
 oli dotazy\, kontaktujte prosím a.sattar.prague@outllook.com.\n
URL:https://www.spcr.cz/webinar-byznysova-spoluprace-pakistanu-cr
DTSTART:20240228T110000
DTEND:20240228T235959
LOCATION:
END:VEVENT
END:VCALENDAR
