BEGIN:VCALENDAR
PRODID:-//eluceo/ical//2.0/EN
VERSION:2.0
CALSCALE:GREGORIAN
BEGIN:VEVENT
UID:a97149ca17dc386d6f5bbc203c475fa8
DTSTAMP:20260423T162731Z
SUMMARY:Online seminář: Elektronické podepisování prakticky
DESCRIPTION:Název akce: Online seminář: Elektronické podepisování pra
 kticky\nURL: https://www.spcr.cz/online-seminar-elektronicke-podepisovani-
 prakticky\nPopis: \n\nNejste si jisti\, jaký je rozdíl mezi prostým\, z
 aručeným a kvalifikovaným elektronickým podpisem? Chcete vědět\, jak
 é podpisy používat při přeshraničním styku a jakou záruku vám dá
 vají služby typu DocuSign? A proč si neposílat naskenované podepsané
  smlouvy?\nV rámci této přednášky se dozvíte\, jak podepisovat smlou
 vy na dálku v tuzemsku i v zahraničí.\nNa praktických příkladech v
 ám povíme:\n\njaká je závaznost jednotlivých elektronických podpisů
  a jak je získat\nkterá metoda je vhodná pro kterou část podnikání 
 (od HR po klientské smlouvy) \nproč není vhodné spoléhat na obsah em
 ailu jakožto obsah dohody\n jak na podepisování na dálku hledí soudy
 \n\nVíce informací k akci\, programu a registraci na odkazu zde. \n
URL:https://www.spcr.cz/online-seminar-elektronicke-podepisovani-prakticky
DTSTART:20240313T100000
DTEND:20240313T113000
LOCATION:
END:VEVENT
END:VCALENDAR
