BEGIN:VCALENDAR
PRODID:-//eluceo/ical//2.0/EN
VERSION:2.0
CALSCALE:GREGORIAN
BEGIN:VEVENT
UID:f60e9f631dbbb5aef65680a96cf8572a
DTSTAMP:20260423T163004Z
SUMMARY:Online seminář: Možnosti expanze na RAKOUSKÝ trh
DESCRIPTION:Název akce: Online seminář: Možnosti expanze na RAKOUSKÝ t
 rh\nURL: https://www.spcr.cz/online-seminar-moznosti-expanze-na-rakousky-t
 rh\nPopis: \n\nAktuální zpravodajství\, sdilení best a bad practise\, 
 praktický pohled na export a mnoho dalších přínosných informací  p
 ro české firmy vám představí ředitelka zahraniční kanceláře Czec
 hTrade v RAKOUSKU\, Julie Havlová.\nObsah semináře:\n\n Aktuální s
 ituace na rakouském trhu\nPerspektivní obory a aktuální příležitost
 i pro český export\nPředpoklady expanze aneb jsem opravdu připraven?\n
 Běžné chyby českých exportérů + tipy pro zvýšení šance na úsp
 ěch\nJak v Rakousku hledat obchodní partnery\nKomunikace v obchodním je
 dnání\nÚčast na veletrzích\, podnikatelských misích\, sourcing day\
 nAsistence kanceláře CzechTrade v Rakousku\nPřeshraniční poskytován
 í služeb do Rakouska\nDotazy\, diskuse\n\nVíce informací k akci a regi
 strace je k dispozici zde. \n
URL:https://www.spcr.cz/online-seminar-moznosti-expanze-na-rakousky-trh
DTSTART:20240312T100000
DTEND:20240312T113000
LOCATION:
END:VEVENT
END:VCALENDAR
