BEGIN:VCALENDAR
PRODID:-//eluceo/ical//2.0/EN
VERSION:2.0
CALSCALE:GREGORIAN
BEGIN:VEVENT
UID:97609726ed2016fa91a76cb171cfc2c5
DTSTAMP:20260423T124759Z
SUMMARY:Doing business – VELKÁ BRITÁNIE\, Brno
DESCRIPTION:Název akce: Doing business – VELKÁ BRITÁNIE\, Brno\nURL: h
 ttps://www.spcr.cz/doing-business-velka-britanie-brno\nPopis: \n\nProgram 
 akce(Registrace od 9.30 hodin)\n\nSoučasné UK – ekonomické klima a v
 ýhled do budoucna\nPříležitost ve Spojeném království v době pobre
 xitové\nPříprava na vstup do UK – analýza konkurence\nBusiness plán
  – Marže pro Vás a Vaše partnery\nUSP - přidaná hodnota exportéra\
 nMarketing & vstupní náklady\nBusiness model aneb výběr partnera\nInfr
 astruktura UK po Brexitu\nObchodní jednání v UK\nNová příležitost p
 ro exportéry: Design & Tech Centrum v Londýně\nDalší důležité info
 rmace\n\nINDIVIDUÁLNÍ KONZULTACE se zástupcem ředitele zahraniční ka
 nceláře CzechTrade ve Velké Británii Martinem Macourkem.\nRegistrace n
 a akci je možná zde. \n
URL:https://www.spcr.cz/doing-business-velka-britanie-brno
DTSTART:20240306T100000
DTEND:20240306T120000
LOCATION:
END:VEVENT
END:VCALENDAR
