BEGIN:VCALENDAR
PRODID:-//eluceo/ical//2.0/EN
VERSION:2.0
CALSCALE:GREGORIAN
BEGIN:VEVENT
UID:496a56876442c7fb5d11bfdad08ad5d9
DTSTAMP:20260423T150053Z
SUMMARY:Jak uspět na exportních trzích Egypta a Kataru\, Plzeň
DESCRIPTION:Název akce: Jak uspět na exportních trzích Egypta a Kataru\
 , Plzeň\nURL: https://www.spcr.cz/jak-uspet-na-exportnich-trzich-egypta-k
 ataru-plzen-0\nPopis: \n\nAnotace:\n\nAktuální situace na tamních trzí
 ch\nTipy na úspěšný export\nObchodní a kulturní zvyklosti\nOslovení
  potenciálního obchodního partnera\nOborové příležitosti pro česk
 é podnikatele\nPlánované akce CzechTrade\nPraktické zkušenosti z obc
 hodu s Egyptem a Katarem \nDotazy\, diskuze\nIndividuální konzultace s
  řediteli zahraničních kanceláří CzechTrade \n\nPřednášející:\
 nTomáš Rousek\, ředitel zahraniční kanceláře CzechTrade v EgyptěMi
 chal Sontodinomo\, ředitel zahraniční kanceláře CzechTrade v Kataru\
 nVíce informací k programu a registrace na akci zde. \n
URL:https://www.spcr.cz/jak-uspet-na-exportnich-trzich-egypta-kataru-plzen-
 0
DTSTART:20240213T080000
DTEND:20240213T170000
LOCATION:
END:VEVENT
END:VCALENDAR
