BEGIN:VCALENDAR
PRODID:-//eluceo/ical//2.0/EN
VERSION:2.0
CALSCALE:GREGORIAN
BEGIN:VEVENT
UID:50a20ba36d712bc724f08d82a95e6e79
DTSTAMP:20260423T125756Z
SUMMARY:Objevte obchodní potenciál zemí Latinské Ameriky
DESCRIPTION:Název akce: Objevte obchodní potenciál zemí Latinské Ameri
 ky\nURL: https://www.spcr.cz/objevte-obchodni-potencial-zemi-latinske-amer
 iky\nPopis: \n\nExportní konference & individuální konzultace\nChile\, 
 Mexiko\, Dominikánská republika\, Guatemala\, Kostarika\, Panama\, Braz
 ílie\, Kolumbie\, Peru\nMÍSTO KONÁNÍ: Poslanecká sněmovna Parlamentu
  České republiky\, Sněmovní 1 (zasedací místnost č. J-205)\, Praha 
 1 – Malá Strana\, Česká republika\nBěhem konference bude představen
 o latinskoamerické podnikatelské prostředí\, exportní potenciál v te
 ritoriu a podpora českých firem na tamních trzích. Budou představeny 
 praktické tipy pro obchodování i pro vstup na trh\, předpoklady a stra
 tegie pro úspěch v Latinské Americe. Konference představí exportní 
 příležitosti pro Českou republiku v Jižní Americe a služby CzechTr
 ade v daných zemích. Závěrem nebudou chybět inspirující příběhy
  českých firem\, které na latinskoamerických trzích uspěly.\nVíce i
 nformací k programu a registraci naleznete zde. \n
URL:https://www.spcr.cz/objevte-obchodni-potencial-zemi-latinske-ameriky
DTSTART:20240304T130000
DTEND:20240304T160000
LOCATION:
END:VEVENT
END:VCALENDAR
