BEGIN:VCALENDAR
PRODID:-//eluceo/ical//2.0/EN
VERSION:2.0
CALSCALE:GREGORIAN
BEGIN:VEVENT
UID:830c65318b4317e303d7aa383c51974c
DTSTAMP:20260423T212957Z
SUMMARY:Jak na export sklářského průmyslu
DESCRIPTION:Název akce: Jak na export sklářského průmyslu\nURL: https:
 //www.spcr.cz/jak-na-export-sklarskeho-prumyslu\nPopis: \n\nChcete rozší
 řit svá exportní teritoria? Víte\, jak v daných zemích najít vhodn
 ého obchodního partnera a jak podpořit exportní úspěchy na zahranič
 ních veletrzích? \nZaměření semináře: Akce je určena pro české
  sklářské firmy\, začínající\, středně zkušené i zkušené exp
 ortéry.\nVíce informací k programu a registraci na akci je zde. \n
URL:https://www.spcr.cz/jak-na-export-sklarskeho-prumyslu
DTSTART:20240301T090000
DTEND:20240301T143000
LOCATION:
END:VEVENT
END:VCALENDAR
