BEGIN:VCALENDAR
PRODID:-//eluceo/ical//2.0/EN
VERSION:2.0
CALSCALE:GREGORIAN
BEGIN:VEVENT
UID:4bfe8f4e6865183a741800e3ddf36fa1
DTSTAMP:20260423T130819Z
SUMMARY:Online seminář: E-shopy v Německu právně správně (včetně o
 nline tržišť) + aktuality 2024
DESCRIPTION:Název akce: Online seminář: E-shopy v Německu právně spr
 ávně (včetně online tržišť) + aktuality 2024\nURL: https://www.spcr
 .cz/online-seminar-e-shopy-v-nemecku-pravne-spravne-vcetne-online-trzist-a
 ktuality-2024\nPopis: \n\nLukrativní německý trh nabízí přes 80 mili
 onů potencionálních klientů a zároveň lehkou dosažitelnost při dor
 učování zboží. Není proto divu\, že stále více českých společn
 ostí slaví velké úspěchy na německém trhu. Tento seminář Vás sro
 zumitelnou formou provede specifiky německého e-commerce trhu z perspekt
 ivy právníků a pomůže Vám se vyvarovat chyb\, které vznikají nezna
 lostí německých právních předpisů.Porušení práva v Německu mů
 že vést až k „Abmahnung“ – upomínce od konkurence\, přičemž n
 áklady na její vypracování v řádech stovek až tisíců Euro je povi
 nen uhradit porušovatel. „Abmahnung“ může v konečném důsledku oh
 rozit i celý obchodní model. Na druhou stranu\, tento ostrý meč poskyt
 uje účinnou ochranu před nekalou soutěží i českým provozovatelům 
 německých e-shopů.Zvláštní pozornost bude věnována online tržišt
 ím a povinnostem v souvislosti s obaly a prodejem elektrických a elektro
 nických zařízení.\nLink na akci a registrace zde. \n
URL:https://www.spcr.cz/online-seminar-e-shopy-v-nemecku-pravne-spravne-vce
 tne-online-trzist-aktuality-2024
DTSTART:20240221T100000
DTEND:20240221T113000
LOCATION:
END:VEVENT
END:VCALENDAR
