BEGIN:VCALENDAR
PRODID:-//eluceo/ical//2.0/EN
VERSION:2.0
CALSCALE:GREGORIAN
BEGIN:VEVENT
UID:a3515998a52434c90165a99aab9fe785
DTSTAMP:20260423T163202Z
SUMMARY:Webinář - Finanční produky IFC
DESCRIPTION:Název akce: Webinář - Finanční produky IFC\nURL: https://w
 ww.spcr.cz/webinar-financni-produky-ifc-0\nPopis: \n\nDovolujeme si Vás p
 ozvat na webinář organizace International Finance Corporation (IFC) - č
 len skupiny Světové banky\, který se bude konat 22. 02. 2024 od 10:00.
 \nNa webináři boudou představeny finanční produkty IFC pro soukrom
 ý sektor a vysvětlení toho\, jak lze s IFC v praxi spolupracovat. Běhe
 m webináře\, který potrvá 90 minut\, bude zároveň možné položit d
 otazy. \nWebinář bude probíhat v anglickém jazyce.\nPokud máte záje
 m o účast\, napište své firemní a kontaktní údaje na adresu pslo@c
 eb.cz. Následně Vám přijde pozvánka k připojení prostřednictvím 
 elektronické platformy. Účast na akci je bez poplatku. \nVíce informa
 cí nalezenete v pozvánce.\n
URL:https://www.spcr.cz/webinar-financni-produky-ifc-0
DTSTART:20240222T100000
DTEND:20240222T113000
LOCATION:
END:VEVENT
END:VCALENDAR
