BEGIN:VCALENDAR
PRODID:-//eluceo/ical//2.0/EN
VERSION:2.0
CALSCALE:GREGORIAN
BEGIN:VEVENT
UID:423c014c638b924607a20cfeee2d22bd
DTSTAMP:20260423T145913Z
SUMMARY:Webinář: Konsolidační balíček - Daňové změny v roce 2024
DESCRIPTION:Název akce: Webinář: Konsolidační balíček - Daňové zm
 ěny v roce 2024\nURL: https://www.spcr.cz/webinar-konsolidacni-balicek-da
 nove-zmeny-v-roce-2024\nPopis: \n\nZákon o konsolidaci veřejných financ
 í nabyl účinnosti dnem 1. ledna 2024. Nová legislativa přináší i z
 ásadní změny napříč celým daňovým systémem. Na webináři vás s
 eznámíme se všemi změnami v oblasti daní a zaměříme se předevš
 ím na změny v daních z příjmů pro právnické a fyzické osoby (DPPO
  a DPFO). Dozvíte se například\, jak se změnila daňová úprava zam
 ěstnaneckých benefitů či stravování nebo omezení daňové uznatelno
 sti nákupu osobních automobilů.\nWebinář je určen zejména pro daňo
 vé poradce\, ekonomy\, účetní\, podnikatele a další osoby\, které s
 e ve firmách zabývají daňovou a účetní problematikou.\nKapacita: 10
  - 30 účastníků. V případě velkého zájmu budou vypsány další t
 ermíny.\nCena: 1.495 Kč bez DPH (člen Svazu průmyslu a dopravy ČR)\, 
 2.990 Kč bez DPH (nečlen)\nLektoři\n\nIng. Bohuslav Čížek\, Ph.D.\, 
 MBA\, zástupce generálního ředitele Svazu průmyslu a dopravy ČR\, ř
 editel Sekce hospodářské politiky SP ČR\nIng. Bc. Jiří Nesrovnal\, 
 člen Prezidia Komory daňových poradců ČR a vedoucí Sekce daně z př
 íjmů právnických osob při Odborném kolegiu KDP ČR\n\nRegistrace: Na
  webinář se prosím přihlaste přes on-line formulář nejpozději do 2
 5. února.\nPřipojení k webináři: Webinář můžete spustit kdekoliv\
 , na jakémkoliv zařízení\, stačí připojení na internet. Není tře
 ba instalovat žádný program. Odkaz ke spuštění vám zašleme den př
 ed konáním akce na vámi zaregistrovaný e-mail.\nDotazy k tématu daní
 : Na konci webináře je vyhrazen půlhodinový prostor pro vaše dotazy. 
 Dotazy lektorovi je možné pokládat již v průběhu prostřednictvím c
 hatu.\nKontakt: Ing. Radka Bartíková\, regionální manažerka SP ČR (r
 bartikova@spcr.cz)\nDůležité informace:\n\nPokyny k platbě: Platbu ú
 častnického poplatku proveďte až po obdržení faktury. Ta Vám bude z
 aslána elektronicky na e-mail uvedený v registraci. Členství ve Svazu 
 průmyslu a dopravy ČR bude před vystavením faktury ověřováno a v p
 řípadě\, že organizace není členem\, bude fakturována plná cena.\n
 Storno poplatky: Registrace na webinář je závazná. V případě neúč
 astni na webináři jsou storno poplatky v plné výši účastnického po
 platku\, nebo akceptujeme náhradníka.\nMinimální počet účastníků:
  Webinář proběhne pouze za předpokladu minimálního počtu účastní
 ků\, jehož dosažením bylo konání webináře podmíněno.\nZměny v o
 rganizaci webináře: Organizátor si vyhrazuje právo na případnou změ
 nu přednášejícího\, termínu\, anebo zrušení webináře\, a to nejp
 ozději v den jeho konání. O případné změně bude účastník neprod
 leně informován elektronicky na e-mail\, který uvedl v registračním f
 ormuláři. V případě změny termínu nebo zrušení webináře má ú
 častník právo na navrácení plné ceny webináře (nevztahuje se na zm
 ěnu přednášejícího).\n
URL:https://www.spcr.cz/webinar-konsolidacni-balicek-danove-zmeny-v-roce-20
 24
DTSTART:20240227T130000
DTEND:20240227T153000
LOCATION:
END:VEVENT
END:VCALENDAR
