BEGIN:VCALENDAR
PRODID:-//eluceo/ical//2.0/EN
VERSION:2.0
CALSCALE:GREGORIAN
BEGIN:VEVENT
UID:45f75c299e7a95ef12c33209d2878241
DTSTAMP:20260423T145923Z
SUMMARY:Podnikatelská mise do Severní Makedonie a Albánie
DESCRIPTION:Název akce: Podnikatelská mise do Severní Makedonie a Albán
 ie\nURL: https://www.spcr.cz/podnikatelska-mise-do-severni-makedonie-alban
 ie\nPopis: \n\nSvaz průmyslu a dopravy ČR (SP ČR) si Vás dovoluje info
 rmovat\, že ve dnech 24.-26. března 2024 se bude konat cesta ministra pr
 ůmyslu a obchodu ČR Jozefa Síkely do Severní Makedonie a Albánie s do
 provodnou podnikatelskou delegací\, kterou za Svaz průmyslu a dopravy Č
 R povede člen představenstva Petr Jonák.\nV rámci cesty se očekává 
 zastávka v  Bitole\, Ohridu (Severní Makedonie) a v Tiraně (Albánie).
  Prioritními sektory pro tuto podnikatelskou misi jsou důlní průmysl\
 , energetika\, dopravní průmysl\, zemědělská technika a stroje urče
 né ke zpracování potravin a technologie chytrých měst. \nNa programu
  cesty budou podnikatelské fórum\, B2B networking/matchmaking a další 
 doprovodné programy v navštívených lokalitách\, které umožní prohl
 oubení a navázání kontaktů s místním podnikatelským prostředím. 
 V navštívených městech jsou již probíhající\, či rozbíhající s
 e projekty českých firem\, které poslouží jako inspirace pro další 
 rozvoj spolupráce. \nZáloha na účastnický poplatek činí 25.000\,- 
 Kč včetně DPH (členové SP ČR mají 10% slevu) a zahrnuje ubytování
 \, transfery\, pronájmy prostor\, catering\, organizace firemních jedná
 ní\, organizační náklady spojené s přípravou mise a služby po dobu
  mise.\nV případě zájmu o účast na této misi Vás žádáme o násl
 edující:\n\nvyplňte závaznou online registraci\nzašlete vyplněnou\, 
 podepsanou a naskenovanou závaznou přihlášku \nzašlete vyplněný sn
 ímek pro prezentaci\nzašlete sken cestovního pasu (strana s fotografií
 \; platnost pasu min. 6 měsíců po návratu zpět do ČR)\nzašlete foto
  účastníka v min. rozlišení 600×800 pixelů\, 500 kB pro připravova
 ný katalog firem\n\nDokumenty zašlete na e-mail mise@spcr.cz nejpozději
  do pátku 8. března 2024.\nDalší pokyny Vám sdělíme po obdržení V
 aší závazné přihlášky a provedení elektronické registrace.  Info
 rmace Vám budeme průběžně zasílat elektronickou poštou\, včetně z
 álohové faktury na účastnický poplatek pro firmy zařazené do podnik
 atelské delegace. \nVzhledem k potřebné přípravě a omezené kapacit
 ě mise Vám doporučujeme přihlásit se co nejdříve\, tj. nečekat do 
 konečné uzávěrky 8. 3. \n \nVíce o Albánii a obchodních přílež
 itostech v této zemi najdete zde.\nVíce o Severní Makedonii a obchodn
 ích příležitostech v této zemi najdete zde.\n
URL:https://www.spcr.cz/podnikatelska-mise-do-severni-makedonie-albanie
DTSTART:20240324T080000
DTEND:20240326T170000
LOCATION:
END:VEVENT
END:VCALENDAR
